BEGIN:VCALENDAR
VERSION:2.0
PRODID:-//DGhK Rhein-Ruhr e.V. - ECPv6.15.20//NONSGML v1.0//EN
CALSCALE:GREGORIAN
METHOD:PUBLISH
X-ORIGINAL-URL:https://dghk-rhein-ruhr.de
X-WR-CALDESC:Veranstaltungen für DGhK Rhein-Ruhr e.V.
REFRESH-INTERVAL;VALUE=DURATION:PT1H
X-Robots-Tag:noindex
X-PUBLISHED-TTL:PT1H
BEGIN:VTIMEZONE
TZID:Europe/Berlin
BEGIN:DAYLIGHT
TZOFFSETFROM:+0100
TZOFFSETTO:+0200
TZNAME:CEST
DTSTART:20240331T010000
END:DAYLIGHT
BEGIN:STANDARD
TZOFFSETFROM:+0200
TZOFFSETTO:+0100
TZNAME:CET
DTSTART:20241027T010000
END:STANDARD
BEGIN:DAYLIGHT
TZOFFSETFROM:+0100
TZOFFSETTO:+0200
TZNAME:CEST
DTSTART:20250330T010000
END:DAYLIGHT
BEGIN:STANDARD
TZOFFSETFROM:+0200
TZOFFSETTO:+0100
TZNAME:CET
DTSTART:20251026T010000
END:STANDARD
BEGIN:DAYLIGHT
TZOFFSETFROM:+0100
TZOFFSETTO:+0200
TZNAME:CEST
DTSTART:20260329T010000
END:DAYLIGHT
BEGIN:STANDARD
TZOFFSETFROM:+0200
TZOFFSETTO:+0100
TZNAME:CET
DTSTART:20261025T010000
END:STANDARD
BEGIN:DAYLIGHT
TZOFFSETFROM:+0100
TZOFFSETTO:+0200
TZNAME:CEST
DTSTART:20270328T010000
END:DAYLIGHT
BEGIN:STANDARD
TZOFFSETFROM:+0200
TZOFFSETTO:+0100
TZNAME:CET
DTSTART:20271031T010000
END:STANDARD
END:VTIMEZONE
BEGIN:VEVENT
DTSTART;TZID=Europe/Berlin:20260328T150000
DTEND;TZID=Europe/Berlin:20260328T173000
DTSTAMP:20260425T011556
CREATED:20251216T174835Z
LAST-MODIFIED:20260221T114757Z
UID:10001641-1774710000-1774719000@dghk-rhein-ruhr.de
SUMMARY:Grefrath – Kempen – Nettetal | Spieletreff
DESCRIPTION:Spie­le­treff\n\nSpieletreff für Kinder und Eltern (Offen für alle Altersgruppen) \n\nInformation und Anmeldung:\nMirko Billen\ngrefrath-spiele@dghk-rr.de\nAnmeldungen bis 3 Tage vorher notwendig\, um eventuelle Änderungen kommunizieren zu können.\n\nDer Spieltreff findet an den Samstagen statt von 15.00 Uhr bis 17.30 \nVor Ort gibt es die Möglichkeit\, Kaffee und Getränke zu bekommen\, man kann sich aber auch gerne etwas mitbringen.\nSpiele darf jeder gerne selber mitbringen\, einen großen Korb Spiele haben wir aber auch dabei. \nLocation: \nParkstübchen\nParkstraße 13\n41334 Nettetal
URL:https://dghk-rhein-ruhr.de/veranstaltung/grefrath-kempen-nettetal-spieletreff-3/2026-03-28/
LOCATION:Parkstübchen (Nettetal)\, Parkstraße 13\, Nettetal\, 41334
CATEGORIES:Spieltreff
ORGANIZER;CN="Mirko Billen":MAILTO:grefrath-spiele@dghk-rr.de
END:VEVENT
BEGIN:VEVENT
DTSTART;TZID=Europe/Berlin:20260124T150000
DTEND;TZID=Europe/Berlin:20260124T173000
DTSTAMP:20260425T011556
CREATED:20251216T174835Z
LAST-MODIFIED:20260221T114757Z
UID:10001232-1769266800-1769275800@dghk-rhein-ruhr.de
SUMMARY:Grefrath – Kempen – Nettetal | Spieletreff
DESCRIPTION:Spie­le­treff\n\nSpieletreff für Kinder und Eltern (Offen für alle Altersgruppen) \n\nInformation und Anmeldung:\nMirko Billen\ngrefrath-spiele@dghk-rr.de\nAnmeldungen bis 3 Tage vorher notwendig\, um eventuelle Änderungen kommunizieren zu können.\n\nDer Spieltreff findet an den Samstagen statt von 15.00 Uhr bis 17.30 \nVor Ort gibt es die Möglichkeit\, Kaffee und Getränke zu bekommen\, man kann sich aber auch gerne etwas mitbringen.\nSpiele darf jeder gerne selber mitbringen\, einen großen Korb Spiele haben wir aber auch dabei. \nLocation: \nParkstübchen\nParkstraße 13\n41334 Nettetal
URL:https://dghk-rhein-ruhr.de/veranstaltung/grefrath-kempen-nettetal-spieletreff-3/2026-01-24/
LOCATION:Parkstübchen (Nettetal)\, Parkstraße 13\, Nettetal\, 41334
CATEGORIES:Spieltreff
ORGANIZER;CN="Mirko Billen":MAILTO:grefrath-spiele@dghk-rr.de
END:VEVENT
BEGIN:VEVENT
DTSTART;TZID=Europe/Berlin:20251129T150000
DTEND;TZID=Europe/Berlin:20251129T173000
DTSTAMP:20260425T011556
CREATED:20250712T065614Z
LAST-MODIFIED:20251025T090017Z
UID:10001078-1764428400-1764437400@dghk-rhein-ruhr.de
SUMMARY:Grefrath – Kempen – Nettetal | Spieletreff
DESCRIPTION:Spie­le­treff\n\nSpieletreff für Kinder und Eltern (Offen für alle Altersgruppen) \n\nInformation und Anmeldung:\nMirko Billen\ngrefrath-gk@dghk-rr.de\nAnmeldungen bis 3 Tage vorher notwendig\, um eventuelle Änderungen kommunizieren zu können.\n\nDer Spieltreff findet an den Samstagen statt von 15.00 Uhr bis 17.30 \nVor Ort gibt es die Möglichkeit\, Kaffee und Getränke zu bekommen\, man kann sich aber auch gerne etwas mitbringen.\nSpiele darf jeder gerne selber mitbringen\, einen großen Korb Spiele haben wir aber auch dabei. \nLocation: \nParkstübchen\nParkstraße 13\n41334 Nettetal
URL:https://dghk-rhein-ruhr.de/veranstaltung/grefrath-kempen-nettetal-spieletreff-2/2025-11-29/
LOCATION:Parkstübchen (Nettetal)\, Parkstraße 13\, Nettetal\, 41334
CATEGORIES:Spieltreff
ORGANIZER;CN="Kirsten Zettl":MAILTO:grefrath-gkl@dghk-rr.de
END:VEVENT
BEGIN:VEVENT
DTSTART;TZID=Europe/Berlin:20251011T150000
DTEND;TZID=Europe/Berlin:20251011T173000
DTSTAMP:20260425T011556
CREATED:20250712T065614Z
LAST-MODIFIED:20251025T090017Z
UID:10000866-1760194800-1760203800@dghk-rhein-ruhr.de
SUMMARY:Grefrath – Kempen – Nettetal | Spieletreff
DESCRIPTION:Spie­le­treff\n\nSpieletreff für Kinder und Eltern (Offen für alle Altersgruppen) \n\nInformation und Anmeldung:\nMirko Billen\ngrefrath-gk@dghk-rr.de\nAnmeldungen bis 3 Tage vorher notwendig\, um eventuelle Änderungen kommunizieren zu können.\n\nDer Spieltreff findet an den Samstagen statt von 15.00 Uhr bis 17.30 \nVor Ort gibt es die Möglichkeit\, Kaffee und Getränke zu bekommen\, man kann sich aber auch gerne etwas mitbringen.\nSpiele darf jeder gerne selber mitbringen\, einen großen Korb Spiele haben wir aber auch dabei. \nLocation: \nParkstübchen\nParkstraße 13\n41334 Nettetal
URL:https://dghk-rhein-ruhr.de/veranstaltung/grefrath-kempen-nettetal-spieletreff-2/2025-10-11/
LOCATION:Parkstübchen (Nettetal)\, Parkstraße 13\, Nettetal\, 41334
CATEGORIES:Spieltreff
ORGANIZER;CN="Kirsten Zettl":MAILTO:grefrath-gkl@dghk-rr.de
END:VEVENT
BEGIN:VEVENT
DTSTART;TZID=Europe/Berlin:20250830T150000
DTEND;TZID=Europe/Berlin:20250830T173000
DTSTAMP:20260425T011556
CREATED:20250712T065614Z
LAST-MODIFIED:20251025T090017Z
UID:10000865-1756566000-1756575000@dghk-rhein-ruhr.de
SUMMARY:Grefrath – Kempen – Nettetal | Spieletreff
DESCRIPTION:Spie­le­treff\n\nSpieletreff für Kinder und Eltern (Offen für alle Altersgruppen) \n\nInformation und Anmeldung:\nMirko Billen\ngrefrath-gk@dghk-rr.de\nAnmeldungen bis 3 Tage vorher notwendig\, um eventuelle Änderungen kommunizieren zu können.\n\nDer Spieltreff findet an den Samstagen statt von 15.00 Uhr bis 17.30 \nVor Ort gibt es die Möglichkeit\, Kaffee und Getränke zu bekommen\, man kann sich aber auch gerne etwas mitbringen.\nSpiele darf jeder gerne selber mitbringen\, einen großen Korb Spiele haben wir aber auch dabei. \nLocation: \nParkstübchen\nParkstraße 13\n41334 Nettetal
URL:https://dghk-rhein-ruhr.de/veranstaltung/grefrath-kempen-nettetal-spieletreff-2/2025-08-30/
LOCATION:Parkstübchen (Nettetal)\, Parkstraße 13\, Nettetal\, 41334
CATEGORIES:Spieltreff
ORGANIZER;CN="Kirsten Zettl":MAILTO:grefrath-gkl@dghk-rr.de
END:VEVENT
BEGIN:VEVENT
DTSTART;TZID=Europe/Berlin:20250628T150000
DTEND;TZID=Europe/Berlin:20250628T173000
DTSTAMP:20260425T011556
CREATED:20240323T205242Z
LAST-MODIFIED:20250114T064746Z
UID:10000699-1751122800-1751131800@dghk-rhein-ruhr.de
SUMMARY:Grefrath – Kempen – Nettetal | Spieletreff
DESCRIPTION:Spie­le­treff\n\nSpieletreff für Kinder und Eltern \n\nInformation und Anmeldung:\nMirko Billen\ngrefrath-gk@dghk-rr.de\nAnmeldungen bis 3 Tage vorher notwendig\, um eventuelle Änderungen kommunizieren zu können.\n\nDer Spieltreff findet an den Samstagen statt von 15.00 Uhr bis 17.30 \nVor Ort gibt es die Möglichkeit\, Kaffee und Getränke zu bekommen\, man kann sich aber auch gerne etwas mitbringen.\nSpiele darf jeder gerne selber mitbringen\, einen großen Korb Spiele haben wir aber auch dabei. \nLocation: \nParkstübchen \nParkstraße 13 \n41334 Nettetal
URL:https://dghk-rhein-ruhr.de/veranstaltung/grefrath-kempen-nettetal-spieletreff/2025-06-28/
LOCATION:Parkstübchen (Nettetal)\, Parkstraße 13\, Nettetal\, 41334
CATEGORIES:Spieltreff
ORGANIZER;CN="Kirsten Zettl":MAILTO:grefrath-gkl@dghk-rr.de
END:VEVENT
BEGIN:VEVENT
DTSTART;TZID=Europe/Berlin:20250510T150000
DTEND;TZID=Europe/Berlin:20250510T173000
DTSTAMP:20260425T011556
CREATED:20240323T205242Z
LAST-MODIFIED:20250114T064746Z
UID:10000698-1746889200-1746898200@dghk-rhein-ruhr.de
SUMMARY:Grefrath – Kempen – Nettetal | Spieletreff
DESCRIPTION:Spie­le­treff\n\nSpieletreff für Kinder und Eltern \n\nInformation und Anmeldung:\nMirko Billen\ngrefrath-gk@dghk-rr.de\nAnmeldungen bis 3 Tage vorher notwendig\, um eventuelle Änderungen kommunizieren zu können.\n\nDer Spieltreff findet an den Samstagen statt von 15.00 Uhr bis 17.30 \nVor Ort gibt es die Möglichkeit\, Kaffee und Getränke zu bekommen\, man kann sich aber auch gerne etwas mitbringen.\nSpiele darf jeder gerne selber mitbringen\, einen großen Korb Spiele haben wir aber auch dabei. \nLocation: \nParkstübchen \nParkstraße 13 \n41334 Nettetal
URL:https://dghk-rhein-ruhr.de/veranstaltung/grefrath-kempen-nettetal-spieletreff/2025-05-10/
LOCATION:Parkstübchen (Nettetal)\, Parkstraße 13\, Nettetal\, 41334
CATEGORIES:Spieltreff
ORGANIZER;CN="Kirsten Zettl":MAILTO:grefrath-gkl@dghk-rr.de
END:VEVENT
END:VCALENDAR