BEGIN:VCALENDAR
VERSION:2.0
PRODID:-//DGhK Rhein-Ruhr e.V. - ECPv6.15.20//NONSGML v1.0//EN
CALSCALE:GREGORIAN
METHOD:PUBLISH
X-ORIGINAL-URL:https://dghk-rhein-ruhr.de
X-WR-CALDESC:Veranstaltungen für DGhK Rhein-Ruhr e.V.
REFRESH-INTERVAL;VALUE=DURATION:PT1H
X-Robots-Tag:noindex
X-PUBLISHED-TTL:PT1H
BEGIN:VTIMEZONE
TZID:Europe/Berlin
BEGIN:DAYLIGHT
TZOFFSETFROM:+0100
TZOFFSETTO:+0200
TZNAME:CEST
DTSTART:20240331T010000
END:DAYLIGHT
BEGIN:STANDARD
TZOFFSETFROM:+0200
TZOFFSETTO:+0100
TZNAME:CET
DTSTART:20241027T010000
END:STANDARD
BEGIN:DAYLIGHT
TZOFFSETFROM:+0100
TZOFFSETTO:+0200
TZNAME:CEST
DTSTART:20250330T010000
END:DAYLIGHT
BEGIN:STANDARD
TZOFFSETFROM:+0200
TZOFFSETTO:+0100
TZNAME:CET
DTSTART:20251026T010000
END:STANDARD
BEGIN:DAYLIGHT
TZOFFSETFROM:+0100
TZOFFSETTO:+0200
TZNAME:CEST
DTSTART:20260329T010000
END:DAYLIGHT
BEGIN:STANDARD
TZOFFSETFROM:+0200
TZOFFSETTO:+0100
TZNAME:CET
DTSTART:20261025T010000
END:STANDARD
END:VTIMEZONE
BEGIN:VEVENT
DTSTART;TZID=Europe/Berlin:20251202T193000
DTEND;TZID=Europe/Berlin:20251202T213000
DTSTAMP:20260425T024446
CREATED:20250204T060805Z
LAST-MODIFIED:20251103T174423Z
UID:10000822-1764703800-1764711000@dghk-rhein-ruhr.de
SUMMARY:Gevelsberg | Gesprächskreis in Präsenz
DESCRIPTION:Einmal im Monat – offener Austausch in vertrauensvoller Runde\nDer DGhK-Gesprächskreis „Gevelsberg“ bietet Raum für alle\, die mit hochbegabten Kindern leben\, arbeiten oder sich für deren besondere Bedürfnisse interessieren. Eingeladen sind Eltern\, Großeltern\, Erzieher*innen\, Lehrer*innen und alle\, die sich im Thema wiederfinden oder annähern möchten – auch wenn noch Unsicherheit besteht\, „ob man hier richtig ist“. \n\nOrt:\nKISS-EN Süd\, Kölner Str. 25\, 58285 Gevelsberg (Parkplätze stehen Euch direkt vor dem Eingang zur Verfügung) \n\nTermin:\njeder 1. Dienstag im Monat (Ausnahme: Entfall in den NRW-Schulferien!)\nUhrzeit: 19:30 – 21:30 Uhr \n\nWas erwartet euch?\nIn einer geschützten\, vertrauensvollen Atmosphäre tauschen wir uns aus – über Fragen\, Sorgen und Herausforderungen ebenso wie über Hoffnung\, Freude und neue Perspektiven. Ob zum Reden\, Zuhören oder einfach nur zum Dabeisein – alles ist willkommen. \nFür euer Wohl ist gesorgt: \nTee stelle ich bereit.\nDarüber hinaus dürft ihr gerne mitbringen\, was euch den Abend angenehm macht: Knabberzeug\, weitere Getränke\, Schreibzeug… \n\nOrganisatorisches:\nUm Anmeldung wird gebeten unter: \n0160 – 958 002 27 \nSo kann ich besser planen und ihr erhaltet im Zweifel auch kurzfristig Bescheid\, falls es einmal zu Änderungen kommt. \n  \nBitte schaut am jeweiligen Tag vor der Abfahrt noch einmal auf die Homepage:\nAuch ich kann – wie wir alle – einmal krank werden oder spontan familiär verhindert sein. Sollte der Gesprächskreis ausfallen\, wird der Termin online gestrichen\, damit niemand umsonst vor verschlossener Tür steht. Danke für euer Verständnis! \nIch freue mich auf einen wertschätzenden Austausch mit euch!\nSabrina (Knief) \n 
URL:https://dghk-rhein-ruhr.de/veranstaltung/gevelsberg-gespraechskreis-in-praesenz-2/
LOCATION:KISS-EN (Gevelsberg)\, Kölner Str. 25\, Gevelsberg\, 58285
CATEGORIES:Gesprächskreis
ORGANIZER;CN="Sabrina Knief":MAILTO:gevelsberg@dghk-rr.de
END:VEVENT
END:VCALENDAR